BEGIN:VCALENDAR
VERSION:2.0
PRODID:icalendar-ruby
CALSCALE:GREGORIAN
METHOD:PUBLISH
BEGIN:VEVENT
DTSTAMP:20260420T020444Z
UID:97-357@cbdec.org
DTSTART:20260627T150000Z
DTEND:20260627T200000Z
CLASS:PUBLIC
CREATED:20260416T211233
DESCRIPTION:
LAST-MODIFIED:20260416T211233
LOCATION:Antioch  Missionary Baptist Church - 428 Ferguson St. Lex\, Ky
SUMMARY:Let's Talk Health and Wellness
URL;VALUE=URI:https://www.cbdec.org/events/lets-talk-health-and-wellness/20
 26-06-27
ATTACH;FILENAME=1000002904.jpg;FMTTYPE=image/jpeg:https://dq5pwpg1q8ru0.clo
 udfront.net/2026/04/17/01/12/33/4b3e4e7a-db53-4d3f-8e43-b14cb5813123/10000
 02904.jpg
END:VEVENT
END:VCALENDAR
