BEGIN:VCALENDAR
VERSION:2.0
PRODID:icalendar-ruby
CALSCALE:GREGORIAN
METHOD:PUBLISH
BEGIN:VEVENT
DTSTAMP:20260423T143213Z
UID:98-358@cbdec.org
DTSTART:20260505T220000Z
DTEND:20260630T230000Z
CLASS:PUBLIC
CREATED:20260423T071525
DESCRIPTION:This is a a weekly class that meets every Tues and Thursday fro
 m 6-8pm
LAST-MODIFIED:20260423T071525
LOCATION:
SUMMARY:Uttingertown Deacon Training sessions
URL;VALUE=URI:https://www.cbdec.org/events/uttingertown-deacon-training-ses
 sions/2026-05-05
ATTACH;FILENAME=1000002979.jpg;FMTTYPE=image/jpeg:https://dq5pwpg1q8ru0.clo
 udfront.net/2026/04/23/11/15/25/bd5dcb65-78c7-48ac-88c9-72e0175b39b0/10000
 02979.jpg
END:VEVENT
END:VCALENDAR
